Workbook

Sheet Упатство
C3: УПАТСТВО ЗА ПОПОЛНУВАЊЕ НА EXCEL АЛАТКА ЗА ГОДИШНА СМЕТКА 2025
B5: Почитувани колеги,
B7: Ви посакуваме успешно поднесување на Завршните сметки за годината што завршува на 31.12.2025.
B9: Со ова Упатство би сакале да ве насочиме кон начинот на пополнување на табелите како на побрз начин би ги добиле крајните резултати, а тоа се пополнети обрасци.
B11: Ве молиме да ги почитувате правилата за евидентирање на активните и пасивните сметки.
B13: На класа 4 внесувате на страна должи, на класа 7 освен контата 701,702 внесувате на страна побарува.
B15: Екселот е подготвен согласно сметководствените правила и принципи.
B17: Пополнувате во sheet Контен План, согласно контата официјално објавени од Министерство за финансии.
B19: Во Контниот план, доколку имате производство, готови производи задолжително пополнете во горниот дел, обоен со жолта боја.
B21: Доколку имате реинвестирана добивка истотака да го пополните делот обоен со жолта боја.
B23: На крајот на контниот план има контрола, која треба да биде нула.
B25: Во Контниот план пополнувате во цели броеви без користење на точки и запирки, без користење на знаци.
B27: Во Билансот на состојба и билансот на успех не пополнувате во тековна година. Доколку поднесувате годишна сметка во хартиена форма ја пополнувате претходната година, согласно поднесената завршна сметка за 2024 година.
... B46: НАПОМЕНА: Excel Алатката претставува помагало за изготвување на завршна сметка . Формулите внесени во обрасците, можеби нема да соодвествуваат на некои карактеристични ситуации во зависност од видот на правниот субјект за кој се составува завршната сметка. Ве молиме внимавајте и внимателно проверете дали обрасците се пополнети соодветно на видот на субјектот за кој составувате завршна сметка. Алатката е наменета за овластени сметководители! Не се обидувајте да составувате годишна сметка доколку не сте овластен сметководител. Поради постоење на можност од бришење на поставени формули или погрешно внесени износи, Ве молиме проверети ги внимателно добиените поодатоци во обрасците. Дел од податоците не се влечат во Објаснувачки белешки и во Државна евиденција - доколку има дополнителни податоци, внесете ги рачно. При внесување на податоците, Внимавајте да не избришете некоја поставена формула.

Sheet ОСНОВНИ ПОДАТОЦИ ЗА ДРУШТВОТО
A4: ЕМБС | C4: 7666666
A5: Даночен број на друштвото
A7: Општи информации за друштвото
A8: Назив на друштвото | C8: ТЕСТ ДОО Скопје
A9: Адреса
A10: Седиште
A11: Телефон
A12: Адреса за е-пошта | C12: test@gmail.com
A13: Тековна година | C13: 2025
A14: Број на месеци на работење | C14: 12
A15: Просечен број на вработени | C15: 15
A16: Регистрирана Претежна Дејност (Внесете шифра на дејност утврдена со новата класификација НКД Рев.2.1 ) | C16: 69.2
A17: Регистрирана Претежна Дејност (Внесете опис на дејност утврдена со новата класификација НКД Рев.2.1) | C17: Сметководствени, книговодствени и ревизорски работи; даночно советување
A19: Информации за составувачот на Годишната сметка и законскиот застапник
A20: Име и презиме на законски застапник на друштвото:
A21: Лице одговорно за составување на образецот- Име и презиме
A22: Број од регистарот на Институтот на сметководители и овластени сметководители на Република Македонија:
A23: Место
A24: На ден | C24: 31.12.2025

Sheet КОНТЕН ПЛАН
A1: Контен план | B1: Опис на конто | C1: 2025
C2: Салдо должи | D2: Салдо побарува | F2: Промена на вредност на залихи на готови производи и на недовршено производство
A3: 000-ххх | B3: Издатоци за развој | G3: Износ
A4: 001-ххх | B4: Гудвил (Goodwil) | F4: 01.01.2025 | I4: Од 60 до 63 без сметките 608,618 и 638 и без износи книжени на кусоци и вишоци АОП 205 од БУ за 2024 , кое треба да е еднакво со бруто биланс на 01.01.2025
A5: 002-ххх | B5: Концесии | F5: 31.12.2025 | G5: =C392+C396+C406-D392-D396-D406 -> 0
A6: 002-ххх | B6: Патенти
A7: 002 | B7: Концесии, патенти, лиценци, трговски и услужни марки | C7: =+C5+C6 -> 0 | D7: =+D5+D6 -> 0 | F7: Реинвестирана добивка
A8: 003-ххх | B8: Софтвер и останати права | F8: 01.01.2025
A9: 005-ххх | B9: Аванси за набавка на нематеријални средства
A10: 006-ххх | B10: Нематеријални средства во подготовка
A11: 007-ххх | B11: Останати нематеријални средства
A12: 008-ххх | B12: ВУ на издатоци за истражување и развој (аналитика по конта од група 000)
A13: 008-ххх | B13: ВУ на гудвил (аналитика по конта од група 001)
A14: 008-ххх | B14: ВУ на концесии, патенти и лиценци (аналитика по конта од група 002)
A15: 008-ххх | B15: ВУ на софтвер и останати права (аналитика по конта од група 003)
A16: 008-ххх | B16: ВУ на авансите за нематеријални средства (аналитика по конта од група 005)
A17: 008-ххх | B17: ВУ на нематеријалните средства во подготовка (аналитика по конта од група 006)
A18: 008-ххх | B18: ВУ на останатите нематеријални средства (аналитика по конта од група 007).
A19: 008 | B19: Вредносно усогласување (ВУ) на нематеријални вложувања (ревалоризација) | C19: =SUM(C12:C18) -> 0 | D19: =SUM(D12:D18) -> 0
A20: 009-ххх | B20: Акумулирана амортизација на вредноста на издатоците за истражување и развој (аналитика по конта од група 000)
A21: 009-ххх | B21: Акумулирана амортизација на гудвил (аналитика по конта од група 001)
A22: 009-ххх | B22: Акумулирана амортизација на концесиите, патентите, и лиценците и (аналитика по конта од група 002)
A23: 009-ххх | B23: Акумулирана амортизација на софтвер и останати права (аналитика по конта од група 003)
A24: 009-ххх | B24: Акумулирана амортизација на останатитенематеријални средства (аналитика по конта од група 007)
A25: 009-ххх | B25: Вкупна акумулирана амортизација за пресметковниот период за нематеријалните средства
A26: 009 | B26: Акумулирана амортизација на нематеријалните средства | C26: =SUM(C20:C25) -> 0 | D26: =SUM(D20:D25) -> 0
A27: 00 | B27: Нематеријални средства | C27: =C3+C4+C7+C8+C9+C10+C11+C19+C26 -> 0 | D27: =D3+D4+D7+D8+D9+D10+D11+D19+D26 -> 0
A28: 010-ххх | B28: Земјишта (аналитика по локации)
A29: 011-ххх | B29: Градежни објекти (аналитика по објекти)
A30: 012-ххх | B30: Постројки и опрема
A31: 013-ххх | B31: Патнички моторни возила, возила на моторен погон и приклучни уреди, мотори и велосипеди
A32: 013-ххх | B32: Алат, погонски и канцелариски инвентар, мебел и транспортни средства
A33: 014-ххх | B33: Биолошки средства
A34: 015-ххх | B34: Останати материјални средства
A35: 016-ххх | B35: Материјални средства во подготовка(инвестиции во тек)
A36: 017-ххх | B36: Аванси за набавка материјални средства
A37: 018-ххх | B37: Ревалоризација на земјишта и шуми (аналитика според сметка 010)
A38: 018-ххх | B38: Ревалоризација на градежните објекти (аналитика според сметка 011)
A39: 018-ххх | B39: Ревалоризација на постројките и опремата (аналитика според сметка 012)
... A41: 018-ххх | B41: Ревалоризација на алат, погонски и канцелариски инвентар, мебел
...

Sheet БС
B13: Назив на друштвото | C13: ='ОСНОВНИ ПОДАТОЦИ ЗА ДРУШТВОТО'!C8:O8 -> ТЕСТ ДОО Скопје
B14: Адреса, седиште и телефон | C14: ='ОСНОВНИ ПОДАТОЦИ ЗА ДРУШТВОТО'!C9:O9 -> 0
B15: Адреса за е-пошта | C15: ='ОСНОВНИ ПОДАТОЦИ ЗА ДРУШТВОТО'!C12:O12 -> test@gmail.com
B16: Единствен даночен број | C16: ='ОСНОВНИ ПОДАТОЦИ ЗА ДРУШТВОТО'!C5:O5 -> 0
D17: БИЛАНС НА СОСТОЈБАТА
D18: (ИЗВЕШТАЈ ЗА ФИНАНСИСКАТА СОСТОЈБА)
C19: на ден 31.12 2025 година
A22: Ред. Бр | B22: ПОЗИЦИЈА | C22: Ознака на АОП | D22: Број на белешка | E22: Износ
E23: Тековна година | F23: Претходна година
A26: 1 | B26: 2 | C26: 3 | D26: 4 | E26: 5 | F26: 6
A27: 1 | B27: АКТИВА А.НЕТЕКОВНИ СРЕДСТВА (002+009+020+021+031) | C27: 1 | E27: =E30+E37+E53+E54+E66 -> 0 | F27: =F30+F37+F53+F54+F66 -> 0
A30: 2 | B30: I. НЕМАТЕРИЈАЛНИ СРЕДСТВА (003+004+005+006+007+008) | C30: 2 | E30: =E31+E32+E33+E34+E35+E36 -> 0 | F30: =F31+F32+F33+F34+F35+F36 -> 0
A31: 3 | B31: Издатоци за развој | C31: 3 | E31: ='КОНТЕН ПЛАН'!C3-'КОНТЕН ПЛАН'!D12-'КОНТЕН ПЛАН'!D20 -> 0
A32: 4 | B32: Концесии, патенти, лиценци, заштитни знаци и слични права | C32: 4 | E32: ='КОНТЕН ПЛАН'!C7-'КОНТЕН ПЛАН'!D14-'КОНТЕН ПЛАН'!D22+'КОНТЕН ПЛАН'!C8-'КОНТЕН ПЛАН'!D23 -> 0
A33: 5 | B33: Гудвил | C33: 5 | E33: ='КОНТЕН ПЛАН'!C4-'КОНТЕН ПЛАН'!D13-'КОНТЕН ПЛАН'!D21 -> 0
A34: 6 | B34: Аванси за набавка на нематеријални средства | C34: 6 | E34: ='КОНТЕН ПЛАН'!C9-'КОНТЕН ПЛАН'!D16 -> 0
A35: 7 | B35: Нематеријални средства во подготовка | C35: 7 | E35: ='КОНТЕН ПЛАН'!C10-'КОНТЕН ПЛАН'!D17 -> 0
A36: 8 | B36: Останати нематеријални средства | C36: 8 | E36: ='КОНТЕН ПЛАН'!C11-'КОНТЕН ПЛАН'!D24-'КОНТЕН ПЛАН'!D18 -> 0
A37: 9 | B37: II. МАТЕРИЈАЛНИ СРЕДСТВА (010+013+014+015+016+017+018+019) | C37: 9 | E37: =E38+E46+E47+E48+E49+E50+E51+E52 -> 0 | F37: =F38+F46+F47+F48+F49+F50+F51+F38+F52 -> 0
A38: 10 | B38: Недвижности (011+012) | C38: 10 | E38: =E39+E40 -> 0 | F38: =F39+F40 -> 0
A39: 10.а. | B39: Земјиште | C39: 11 | E39: ='КОНТЕН ПЛАН'!C28-'КОНТЕН ПЛАН'!D37 -> 0
A40: 10.б. | B40: Градежни објекти | C40: 12 | E40: ='КОНТЕН ПЛАН'!C29-'КОНТЕН ПЛАН'!D38-'КОНТЕН ПЛАН'!D48 -> 0
A41: Ред. Бр | B41: ПОЗИЦИЈА | C41: Ознака на АОП | D41: Број на белешка | E41: Износ
E42: Тековна година | F42: Претходна година
A45: 1 | B45: 2 | C45: 3 | D45: 4 | E45: 5 | F45: 6
A46: 11 | B46: Постројки и опрема | C46: 13 | E46: ='КОНТЕН ПЛАН'!C30-'КОНТЕН ПЛАН'!D39-'КОНТЕН ПЛАН'!D49 -> 0
A47: 12 | B47: Транспортни средства | C47: 14 | E47: ='КОНТЕН ПЛАН'!C31-'КОНТЕН ПЛАН'!D40-'КОНТЕН ПЛАН'!D50 -> 0
A48: 13 | B48: Алат, погонски и канцeлариски инвентар и мебел | C48: 15 | E48: ='КОНТЕН ПЛАН'!C32-'КОНТЕН ПЛАН'!D41-'КОНТЕН ПЛАН'!D51 -> 0
A49: 14 | B49: Биолошки средства | C49: 16 | E49: ='КОНТЕН ПЛАН'!C33-'КОНТЕН ПЛАН'!D43-'КОНТЕН ПЛАН'!D52 -> 0
A50: 15 | B50: Аванси за набавка на материјални средства | C50: 17 | E50: ='КОНТЕН ПЛАН'!C36-'КОНТЕН ПЛАН'!D45 -> 0
A51: 16 | B51: Материјални средства во подготовка | C51: 18 | E51: ='КОНТЕН ПЛАН'!C35-'КОНТЕН ПЛАН'!D46 -> 0
A52: 17 | B52: Останати материјални средства | C52: 19 | E52: ='КОНТЕН ПЛАН'!C34-'КОНТЕН ПЛАН'!D44-'КОНТЕН ПЛАН'!D53 -> 0
A53: 18 | B53: III. ВЛОЖУВАЊА ВО НЕДВИЖНОСТИ | C53: 20 | E53: ='КОНТЕН ПЛАН'!C63 -> 0
A54: 19 | B54: IV. ДОЛГОРОЧНИ ФИНАНСИСКИ СРЕДСТВА (022+023+024+025+026+030) | C54: 21 | E54: =E55+E56+E57+E58+E59+E65 -> 0 | F54: =F55+F56+F57+F58+F59+F65 -> 0
A55: 20 | B55: Вложувања во подружници | C55: 22 | E55: ='КОНТЕН ПЛАН'!C64-'КОНТЕН ПЛАН'!D73 -> 0
A56: 21 | B56: Вложувања во придружени друштва и учества во заеднички вложувања | C56: 23 | E56: ='КОНТЕН ПЛАН'!C65-'КОНТЕН ПЛАН'!D74 -> 0
A57: 22 | B57: Побарувања по дадени долгорочни заеми на поврзани друштва | C57: 24 | E57: ='КОНТЕН ПЛАН'!C66-'КОНТЕН ПЛАН'!D75 -> 0
A58: 23 | B58: Побарувања по дадени долгорочни заеми | C58: 25 | E58: ='КОНТЕН ПЛАН'!C67-'КОНТЕН ПЛАН'!D76 -> 0
A59: 24 | B59: Вложувања во долгорочни хартии од вредност (027+028+029) | C59: 26 | E59: =E60+E62+E61 -> 0 | F59: =F60+F62+F61 -> 0
A60: 24.а. | B60: Вложувања во хартии од вредност кои се чуваат до доспевање | C60: 27 | E60: ='КОНТЕН ПЛАН'!C68-'КОНТЕН ПЛАН'!D77 -> 0
...

Sheet БУ
F1: ПРИЛОГ 2
B13: Назив на друштвото | C13: ='ОСНОВНИ ПОДАТОЦИ ЗА ДРУШТВОТО'!C8:O8 -> ТЕСТ ДОО Скопје
B14: Адреса, седиште и телефон | C14: ='ОСНОВНИ ПОДАТОЦИ ЗА ДРУШТВОТО'!C9:O9 -> 0
B15: Адреса за е-пошта | C15: ='ОСНОВНИ ПОДАТОЦИ ЗА ДРУШТВОТО'!C12:O12 -> test@gmail.com
B16: Единствен даночен број | C16: ='ОСНОВНИ ПОДАТОЦИ ЗА ДРУШТВОТО'!C5:O5 -> 0
A17: БИЛАНС НА УСПЕХ | B17: БИЛАНС НА УСПЕХ
A18: (ИЗВЕШТАЈ ЗА ДОБИВКА ИЛИ ЗАГУБА)
B20: за периодот од 01.01.2025 до 31.12.2025
F22: (во денари)
A23: Ред. Број | B23: П О З И Ц И Ј А | C23: Ознака на АОП | D23: Број на белешка | E23: Износ
E25: Тековна година | F25: Претходна година
A28: 1 | B28: 2 | C28: 3 | D28: 4 | E28: 5 | F28: 6
A29: 1 | B29: I. ПРИХОДИ ОД РАБОТЕЊЕТО (202+203+206) | C29: 201 | E29: =E30+E31+E37 -> 0 | F29: =F30+F31+F37 -> 0
A30: 2 | B30: Приходи од продажба | C30: 202 | E30: ='КОНТЕН ПЛАН'!D442+'КОНТЕН ПЛАН'!D453-'КОНТЕН ПЛАН'!D448 -> 0
A31: 3 | B31: Останати приходи | C31: 203 | E31: ='КОНТЕН ПЛАН'!D463+'КОНТЕН ПЛАН'!D474 -> 0
A32: 3 | B32: Останати приходи | C32: 203
A33: 4 | B33: Промена на вредноста на залихи на готови производи и на недовршено производство | C33: XXX | D33: XXX
A35: 4.а. | B35: Залихи на готови производи и на недовршено производство на почетокот на годината | C35: 204 | E35: ='КОНТЕН ПЛАН'!G4 -> 0
A36: 4.б. | B36: Залихи на готовите производи и на недовршено производство на крајот на годината | C36: 205 | E36: ='КОНТЕН ПЛАН'!G5 -> 0
A37: 5 | B37: Капитализирано сопствено производство и услуги | C37: 206 | E37: ='КОНТЕН ПЛАН'!D448 -> 0
A38: 6 | B38: II. РАСХОДИ ОД РАБОТЕЊЕТО (208+209+210+211+212+213+218+219+220+221+222) | C38: 207 | E38: =E39+E40+E41+E42+E43+E44+E55+E56+E57+E58+E59 -> 0 | F38: =F39+F40+F41+F42+F43+F44+F55+F56+F57+F58+F59 -> 0
A39: 7 | B39: Трошоци за суровини и други материјали | C39: 208 | E39: ='КОНТЕН ПЛАН'!C306 -> 0
A40: 8 | B40: Набавна вредност на продадени стоки | C40: 209 | E40: ='КОНТЕН ПЛАН'!C434+'КОНТЕН ПЛАН'!C435 -> 0
A41: 9 | B41: Набавна вредност на продадени материјали, резервни делови, ситен инвентар, амбалажа и автогуми | C41: 210 | E41: ='КОНТЕН ПЛАН'!C436 -> 0
A42: 10 | B42: Услуги со карактер на материјални трошоци | C42: 211 | E42: ='КОНТЕН ПЛАН'!C316 -> 0
A43: 11 | B43: Останати трошоци од работењето | C43: 212 | E43: ='КОНТЕН ПЛАН'!C339+'КОНТЕН ПЛАН'!C340+'КОНТЕН ПЛАН'!C341+'КОНТЕН ПЛАН'!C343+'КОНТЕН ПЛАН'!C344+'КОНТЕН ПЛАН'!C345+'КОНТЕН ПЛАН'!C346 -> 0
A44: 12 | B44: Трошоци за вработени (214+215+216+217) | C44: 213 | E44: =E45+E52+E53+E54 -> 0 | F44: =F45+F52+F53+F54 -> 0
A45: 12.a. | B45: Плати и надоместоци на плата (нето) | C45: 214 | E45: ='КОНТЕН ПЛАН'!C320 -> 0
A46: Ред. Број | B46: П О З И Ц И Ј А | C46: Ознака на АОП | D46: Број на белешка | E46: Износ
E48: Тековна година | F48: Претходна година
A51: 1 | B51: 2 | C51: 3 | D51: 4 | E51: 5 | F51: 6
A52: 12.б. | B52: Трошоци за даноци на плати и надоместоци на плата | C52: 215 | E52: ='КОНТЕН ПЛАН'!C321 -> 0
A53: 12.в. | B53: Придонеси од задолжително социјално осигурување | C53: 216 | E53: ='КОНТЕН ПЛАН'!C322+'КОНТЕН ПЛАН'!C323 -> 0
A54: 12.г. | B54: Останати трошоци за вработените | C54: 217 | E54: ='КОНТЕН ПЛАН'!C319+'КОНТЕН ПЛАН'!C336+'КОНТЕН ПЛАН'!C337+'КОНТЕН ПЛАН'!C342 -> 0
A55: 13 | B55: Амортизација на материјалните и нематеријалните средства | C55: 218 | E55: ='КОНТЕН ПЛАН'!C326+'КОНТЕН ПЛАН'!C327+'КОНТЕН ПЛАН'!C328 -> 0
A56: 14 | B56: Вредносно усогласување (обезвреднување) на нетековни средства | C56: 219 | E56: ='КОНТЕН ПЛАН'!C348+'КОНТЕН ПЛАН'!C349+'КОНТЕН ПЛАН'!C350+'КОНТЕН ПЛАН'!C351+'КОНТЕН ПЛАН'!C352+'КОНТЕН ПЛАН'!C355 -> 0
A57: 15 | B57: Вредносно усогласување (обезвреднување) на тековни средства | C57: 220 | E57: ='КОНТЕН ПЛАН'!C353+'КОНТЕН ПЛАН'!C354+'КОНТЕН ПЛАН'!C356 -> 0
A58: 16 | B58: Резервирања за трошоци и ризици | C58: 221 | E58: ='КОНТЕН ПЛАН'!C329+'КОНТЕН ПЛАН'!C330+'КОНТЕН ПЛАН'!C331+'КОНТЕН ПЛАН'!C332+'КОНТЕН ПЛАН'!C333+'КОНТЕН ПЛАН'!C334 -> 0
A59: 17 | B59: Останати расходи од работењето | C59: 222 | E59: ='КОНТЕН ПЛАН'!C368 -> 0
A60: 18 | B60: III. ФИНАНСИСКИ ПРИХОДИ (224+229+230+231+232+233) | C60: 223 | E60: =E61+E66+E67+E68+E69+E70 -> 0 | F60: =F61+F66+F67+F68+F69+F70 -> 0
...

Sheet СПД
V1: Sifra | W1: ADB | X1: Res
V2: 1.11 | W2: 4000 | X2: =VLOOKUP(VALUE(A64), $V$2:$W$620, 2, FALSE) -> 4512
V3: 1.12 | W3: 4001
V4: 1.13 | W4: 4002
V5: 1.14 | W5: 4003
V6: 1.15 | W6: 4004
V7: 1.16 | W7: 4005
V8: 1.19 | W8: 4006
V9: 1.21 | W9: 4007
V10: 1.22 | W10: 4008
B11: Назив на друштвото | C11: ='ОСНОВНИ ПОДАТОЦИ ЗА ДРУШТВОТО'!C8:O8 -> ТЕСТ ДОО Скопје | V11: 1.23 | W11: 4009
B12: Адреса, седиште и телефон | C12: ='ОСНОВНИ ПОДАТОЦИ ЗА ДРУШТВОТО'!C9:O9 -> 0 | V12: 1.24 | W12: 4010
B13: Адреса за е-пошта | C13: ='ОСНОВНИ ПОДАТОЦИ ЗА ДРУШТВОТО'!C12:O12 -> test@gmail.com | V13: 1.25 | W13: 4011
B14: Единствен даночен број | C14: ='ОСНОВНИ ПОДАТОЦИ ЗА ДРУШТВОТО'!C5:O5 -> 0 | V14: 1.26 | W14: 4012
V15: 1.27 | W15: 4013
A16: 100000 | B16: =D57 -> 0 | V16: 1.28 | W16: 4014
V17: 1.29 | W17: 4015
C18: СТРУКТУРА НА ПРИХОДИ ПО ДЕЈНОСТИ (СПД–РЕКАПИТУЛАР) | V18: 1.3 | W18: 4016
C19: за периодот од 01.01.2025 до 31.12.2025 | V19: 1.41 | W19: 4017
V20: 1.42 | W20: 4018
A21: НКД (Национална класификација на дејности) | D21: Остварени приходи ( во денари) | V21: 1.43 | W21: 4019
V22: 1.44 | W22: 4020
V23: 1.45 | W23: 4021
V24: 1.46 | W24: 4022
V25: 1.47 | W25: 4023
V26: 1.48 | W26: 4024
A27: Ред. Бр | B27: Класа1 | C27: Назив2 | V27: 1.5 | W27: 4025
V28: 1.61 | W28: 4026
V29: 1.62 | W29: 4027
A30: 1 | B30: =БУ!C149 -> 69.2 | C30: ='ОСНОВНИ ПОДАТОЦИ ЗА ДРУШТВОТО'!C17:O17 -> Сметководствени, книговодствени и ревизорски работи; даночно советување | D30: =БУ!E29+БУ!E60 -> 0 | V30: 1.63 | W30: 4028
A31: 2 | V31: 1.7 | W31: 4029
A32: 3 | V32: 2.1 | W32: 4030
A33: 4 | V33: 2.2 | W33: 4031
A34: 5 | V34: 2.3 | W34: 4032
A35: 6 | V35: 2.4 | W35: 4033
A36: 7 | V36: 3.11 | W36: 4034
A37: 8 | V37: 3.12 | W37: 4035
A38: 9 | V38: 3.21 | W38: 4036
A39: 10 | V39: 3.22 | W39: 4037
A40: 11 | V40: 3.3 | W40: 4038
...

Sheet ДЕ
A1: Образец "ДЕ" | F1: Прилог
B10: Назив на друштвото | D10: ='ОСНОВНИ ПОДАТОЦИ ЗА ДРУШТВОТО'!C8 -> ТЕСТ ДОО Скопје
B11: Адреса, седиште и телефон | D11: ='ОСНОВНИ ПОДАТОЦИ ЗА ДРУШТВОТО'!C9 -> 0
B12: Адреса за е-пошта | D12: ='ОСНОВНИ ПОДАТОЦИ ЗА ДРУШТВОТО'!C12:O12 -> 0
B13: Единствен даночен број | D13: ='ОСНОВНИ ПОДАТОЦИ ЗА ДРУШТВОТО'!C5 -> 0
C15: ПОСЕБНИ ПОДАТОЦИ
C16: за државна евиденција за субјектите кои
C17: не применуваат посебни сметковни планови
C18: (големи, средни, мали и микро субјекти)
F20: (во денари)
A21: Ред. Бр. | B21: Група на сметки, сметки | C21: Позиција | D21: Ознака на АОП | E21: Износ
E22: Тековна година | F22: Претходна година
A24: 1 | B24: 2 | C24: 3 | D24: 4 | E24: 5 | F24: 6
C25: А.НЕМАТЕРИЈАЛНИ СРЕДСТВА
A26: 1 | B26: 0 | C26: Набавна вредност на издатоци за развој за сопствени цели (интерен проект) | D26: 601 | E26: ='КОНТЕН ПЛАН'!C3 -> 0
A27: 1.1 | C27: Плата и надоместоци на плата на вработените кои директно работат на развојот на интерен проект | D27: 602
A28: 1.2 | C28: Трошоци за материјали и услуги[1] користени или потрошени при развојот на интерен проект | D28: 603
A29: 2 | C29: Сегашна вредност на издатоци за развој за сопствени цели ( < или = АОП 003 од БС) | D29: 604
A30: Ред. Бр. | B30: Група на сметки, сметки | C30: Позиција | D30: Ознака на АОП | E30: Износ
E31: Тековна година | F31: Претходна година
A33: 1 | B33: 2 | C33: 3 | D33: 4 | E33: 5 | F33: 6
A34: 3 | C34: Сегашна вредност на софтвер со лиценца (< или = АОП 004 од БС) | D34: 605 | E34: ='КОНТЕН ПЛАН'!C8-'КОНТЕН ПЛАН'!D23 -> 0
A35: 4 | C35: Сегашна вредност на компјутерскиот софтвер развиен за сопствена употреба (< или = АОП 004 од БС) | D35: 606
A36: 5 | C36: Сегашна вредност на набавени бази на податоци (< или = АОП 004 од БС) | D36: 607
A37: 6 | C37: Сегашна вредност на бази на податоци развиени за сопствена употреба(< или = АОП 004 од БС) | D37: 608
C38: Б.МАТЕРИЈАЛНИ СРЕДСТВА
A39: 7 | B39: 010д | C39: Земјишта | D39: 609 | E39: ='КОНТЕН ПЛАН'!C28 -> 0
A40: 8 | B40: 014д | C40: Шуми | D40: 610
A41: 9 | C41: Сегашна вредност на станови и станбени згради (< или = АОП 012 од БС) | D41: 611
A42: 10 | C42: Сегашна вредност на градежни објекти од високоградба[2] кои се користат за вршење на дејност (< или = АОП 012 од БС) | D42: 612
A43: 11 | C43: Сегашна вредност на објекти од нискоградба[3] (< или = АОП 012 од БС) | D43: 613
A44: 12 | C44: Сегашна вредност на информациска опрема и телекомуникациска опрема[4] (< или = АОП 013 од БС) | D44: 614
A45: 13 | C45: Сегашна вредност на компјутерска опрема[5] (< или = АОП 013 од БС) | D45: 615
A46: 14 | C46: Сегашна вредност на повеќегодишните насади (< или = АОП 016 од БС) | D46: 616
A47: 15 | C47: Сегашна вредност на основното стадо (< или = АОП 016 од БС) | D47: 617
A48: 16 | B48: 015д | C48: Оригинални уметнички и литературни дела за вршење на дејности од културата и уметноста (< или = АОП 019 од БС) | D48: 618
A50: Ред. Бр. | B50: Група на сметки, сметки | C50: Позиција | D50: Ознака на АОП | E50: Износ
E51: Тековна година | F51: Претходна година
A53: 1 | B53: 2 | C53: 3 | D53: 4 | E53: 5 | F53: 6
A54: 17 | B54: 015д | C54: Книги, слики, вајарски дела, музејски експонати, предмети од архивска граѓа и слично (< или = АОП 019 од БС) | D54: 619
...

Sheet ОБ
A4: Назив на Друштвото | D4: ='ОСНОВНИ ПОДАТОЦИ ЗА ДРУШТВОТО'!C8 -> ТЕСТ ДОО Скопје
A5: Адреса | D5: ='ОСНОВНИ ПОДАТОЦИ ЗА ДРУШТВОТО'!C9 -> 0
A6: Седиште | D6: ='ОСНОВНИ ПОДАТОЦИ ЗА ДРУШТВОТО'!C10 -> 0
A7: Телефон | D7: ='ОСНОВНИ ПОДАТОЦИ ЗА ДРУШТВОТО'!C11 -> 0
A8: Единствен даночен број | D8: ='ОСНОВНИ ПОДАТОЦИ ЗА ДРУШТВОТО'!C5 -> 0
A11: ОБЈАСНУВАЧКИ БЕЛЕШКИ
C12: за | D12: 2025 | E12: година
A14: 1. ОПШТИ ИНФОРМАЦИИ
A15: Назив на друштвото | D15: ='ОСНОВНИ ПОДАТОЦИ ЗА ДРУШТВОТО'!C8 -> ТЕСТ ДОО Скопје
A17: Форма на друштвото
A19: Број на регистерска влошка во Централниот регистар
A21: Седиште | D21: =D6 -> 0
A23: Промени во регистарската влошка во Трговскиот регистар до периодот на известување
A25: Позначајни дејности кои го извршува | D25: ='ОСНОВНИ ПОДАТОЦИ ЗА ДРУШТВОТО'!C17 -> Сметководствени, книговодствени и ревизорски работи; даночно советување
A27: Идентификација на поврзани субјекти (назив и процентуално учество)
A29: Број на вработени према степен на образование | D29: Основно | F29: Средно | H29: Високо
A32: Сопственичка структура
A34: Други релевантни информации за друштвото
A37: 2.ОСНОВА ЗА ПОДГОТОВКА НА ГОДИШНА СМЕТКА
A38: Изјава за усогласеност (врз основа на кои стандарди е подготвена годишната сметка) | D38: Меѓународни стандарди за финансиско известување за мали и средни субјекти-МСФИ за МСЕ / Меѓународни стандарди за финансиско известување и Меѓународни сметководствени стандарди/, објавени во Правилникот за водење сметководство
A41: Информација дали годишната сметка е поединечна или консолидирана
A43: Валута на презентација
A46: 3.ЗНАЧАЈНИ СМЕТКОВОДСТВЕНИ ПОЛИТИКИ
A47: Краток опис на позначајните сметководствени политики кои се применети во двата пресметковни периоди во годишната сметка (за приходите, расходите, нематеријалните средства, материјалните средства, побарувањата, обврските и друго). | D47: Вреднувањето на средствата и обврските се врши според методот на набавна вредност (историски трошоци), а приходите и расходите се вреднуваат согласно со методот на фактурирана реализација и принципот на судирање.
A54: 4.КОРИСТЕНИ ПРОЦЕНКИ
A55: Применети методи на значајни проценки кои се применети (за нематеријални и материјални средства, приходи, расходи и друго) | D55: Изготвувањето на годишната сметка во согласност со МСФИ бара од Друштвото да употребува проценки и претпоставки кои влијаат на прикажаните износи на средства и обврски и обелоденување на неизвесни средства и обврски на датумот на известување, како и на приходите и трошоците за извештајниот период. Овие проценки и претпоставки се засновани на информациите достапни на датумот на изготвувањето на Извештајот за финансиската состојба. Актуелните резултати можат да се разликуваат од овие проценки. Раководството на Друштвото ја проценува севкупната изложеност на ризик и во случаи кога проценува дека вредноста на средствата според која се евидентирани во сметководството не би можела да биде реализирана, се врши исправка на вредноста. Раководството на Друштвото смета дека искажаните сметководствени износи се највалидни и најкорисни извештајни вредности при постојните пазарни услови.
A61: 5. ПРОМЕНА НА СМЕТКОВОДСТВЕНИ ПОЛИТИКИ И КОРЕКЦИИ НА ГРЕШКИ
A62: Опис на промената или корекцијата (врз основа на кој стандард или друга законска регулатива е настаната промената) за кои позиции на годишната сметка се однесуваат и квантифицирани ефекти од извршената промена или корекција. | D62: Сметководствените политики се применуваат од период до период на конзистентна основа. Сметководствената политика се менува доколку тоа е условено со измена или донесување на МСФИ. По исклучок, промена на сметководствените политики може да се направи доброволно, ако се процени дека новата сметководствена политика води кон подобра презентација на случувањата и позициите во финансиските извештаи. За промените во сметководствените политики одлучува Друштвото.
A70: 6. УПРАВУВАЊЕ СО РИЗИК
A71: Опис на ризикот (кредитен ризик, пазарен ризик, ризик на ликвидност) и користени методи за мерење на ризикот и квантифицирани информации за ризикот. | D71: Управувањето со ризиците на Друштвото опфаќа идентификување, следење, мерење и нивно управување. Поради тоа, Друштвото има воспоставено режим за управување со ризиците на кои е изложено, соодветно на природата, големината и сложеноста на активностите кои ги врши.
A80: 7. НЕМАТЕРИЈАЛНИ СРЕДСТВА
A82: ОПИС | D82: Патенти и лиценци | E82: Гудвил | F82: Софтвер | G82: Останати Средства | H82: Средства во подготовка | I82: Вкупно
A84: Набавна вредност
A85: Салдо на 1 Јануари 2025 | I85: =SUM(D85:H86) -> 0
A86: (тековна година)
A87: Зголемување | I87: =SUM(D87:H87) -> 0
A88: Намалување | I88: =SUM(D88:H88) -> 0
A89: Салдо на 31 Декември 2025 | D89: =D85+D87-D88 -> 0 | E89: =E85+E87-E88 -> 0 | F89: =F85+F87-F88 -> 0 | G89: =G85+G87-G88 -> 0 | H89: =H85+H87-H88 -> 0 | I89: =SUM(D89:H90) -> 0
A90: (тековна година)
A91: Исправка на вредноста
...

Sheet ПТ
A1: Извештај за парични текови
A3: ='[1]ОСНОВНИ ПОДАТОЦИ ЗА ДРУШТВОТО'!B1 -> 0
B7: ОПИС | D7: 2025 | E7: 2024
A8: 1 | B8: Добивка/Загуба | D8: =БУ!E98-БУ!E99 -> 0
A9: 2 | B9: Амортизација | D9: =БУ!E55 -> 0
A10: 3 | B10: Приходи од камати и курсни разлики | D10: =(БУ!E63+БУ!E64+БУ!E67+БУ!E68)*-1 -> 0
A11: 4 | B11: Расходи од камати и курсни разлики | D11: =БУ!E73+БУ!E74+БУ!E77+БУ!E76 -> 0
A12: 5 | B12: Оперативен Резултат | D12: =SUM(D8:D11) -> 0
A13: 6 | B13: Залихи | D13: =БС!F77-БС!E77 -> 0
A14: 7 | B14: Побарувања кон неповрзани купувачи | D14: =БС!F89-БС!E89 -> 0
A15: 8 | B15: Побарувања кон поврзани купувачи | D15: =БС!F88-БС!E88 -> 0
A16: 9 | B16: Останати побарувања | D16: =(БС!F90+БС!F91+БС!F92+БС!F93)-(БС!E90+БС!E91+БС!E92+БС!E93) -> 0
A17: 10 | B17: Активни временски разграничувања | D17: =БС!F109-БС!E109 -> 0
A18: 11 | B18: Долгорочни побарувања | D18: =БС!F66+БС!F70-БС!E66-БС!E70 -> 0
A19: 12 | B19: Обврски кон добавувачи неповрзани | D19: =БС!E152-БС!F152 -> 0
A20: 13 | B20: Обврски кон добавувачи поврзани | D20: =БС!E151-БС!F151 -> 0
A21: 14 | B21: Останати обврски | D21: =(БС!E153+БС!E154+БС!E155+БС!E156++БС!E157+БС!E165+БС!E166+БС!E167+БС!E168)-(БС!F153+БС!F154+БС!F155+БС!F156+БС!F157+БС!F165+БС!F166+БС!F167+БС!F168) -> 0
A22: 15 | B22: Долгорочни обврски | D22: =БС!E141+БС!E142+БС!E143+БС!E146+БС!E147+БС!E148+БС!E149-БС!F141-БС!F142-БС!F143-БС!F146-БС!F147-БС!F148-БС!F149 -> 0
A23: 16 | B23: Долгорочни резервирања | D23: =БС!E137-БС!F137 -> 0
A24: 17 | B24: Пасивни временски разграничувања | D24: =БС!E169-БС!F169 -> 0
A25: 18 | B25: Вкупно од оперативни активности | D25: =SUM(D12:D24) -> 0
A26: 19 | B26: Вложувања во НПО | D26: =((БС!E53+БС!E37+БС!E30+БУ!E55)-(БС!F53+БС!F37+БС!F30))*(-1) -> 0
A27: 20 | B27: Долгорочни вложувања | D27: =БС!F54-БС!E54-СК!O18 -> 0
A28: 21 | B28: Краткорочни вложувања | D28: =БС!F94-БС!E94 -> 0
A29: 22 | B29: Исплатени дивиденди | D29: =СК!K19 -> 0
A30: 23 | B30: Вложувачки активности вкупно | D30: =SUM(D26:D29) -> 0
A31: 24 | B31: Долгорочни кредити | D31: =БС!E144+БС!E145-БС!F144-БС!F145 -> 0
A32: 25 | B32: Краткорочни кредити | D32: =БС!E158+БС!E164-БС!F158-БС!F164 -> 0
A33: 26 | B33: Наплатена камата | D33: =D10*(-1) -> 0
A34: 27 | B34: Платени камати | D34: =D11*(-1) -> 0
A35: 28 | B35: Вкупно финансиски активност | D35: =SUM(D31:D34) -> 0
A36: 29 | B36: Паричен тек за тековна година | D36: =D25+D30+D35 -> 0
A37: 30 | B37: Парични средства на почеток на година | D37: =БС!F106 -> 0
A38: 31 | B38: Парични средства на крај на година | D38: =D36+D37 -> 0
B40: .
B44: Контрола:
B45: БС | D45: =БС!E106 -> 0
B46: Разлика | D46: =D38-D45 -> 0

Sheet СК
A1: Извештај за промени во главнината
A3: ='[1]ОСНОВНИ ПОДАТОЦИ ЗА ДРУШТВОТО'!B1 -> 0
B7: Опис | C7: Запишан Капитал | D7: Реинвестирана добивка | E7: Сопствени акции и неуплатен капитал | F7: Премии на издадени акции | G7: Ревалоризациони резерви | H7: Законски резерви | I7: Статутарни резерви | J7: Останати резерви | K7: Акумулирана Добивка | L7: Пренесена Загуба | M7: Добивка за тековната година | N7: Загуба за тековната година | O7: ВКУПНО
A8: 1 | B8: Состојба на 31.12.2024 | C8: =БС!F116 -> 0 | D8: ='КОНТЕН ПЛАН'!G8 -> 0 | E8: =БС!F118+БС!F119 -> 0 | F8: =БС!F117 -> 0 | G8: =БС!F120 -> 0 | H8: =БС!F122 -> 0 | I8: =БС!F123 -> 0 | J8: =БС!F124 -> 0 | K8: =БС!F125 -> 0 | L8: =БС!E126*-1 -> 0 | M8: =БС!F127 -> 0 | N8: =БС!F128*-1 -> 0 | O8: =SUM(C8:N8) -> 0
A9: 2 | B9: Издадени акции за пари | O9: =SUM(C9:N9) -> 0
A10: 3 | B10: Откупени сопствени акции | O10: =SUM(C10:N10) -> 0
A11: 4 | B11: Продадени откупени сопствени акции | O11: =SUM(C11:N11) -> 0
A12: 5 | B12: Пренос на добивката | K12: =M8 -> 0 | M12: =M8*(-1) -> 0 | O12: =SUM(C12:N12) -> 0
A13: 6 | B13: Пренос на акумулираната добивка | D13: ='КОНТЕН ПЛАН'!D558-'КОНТЕН ПЛАН'!G8 -> 0 | O13: =SUM(C13:N13) -> 0
A14: 7 | B14: Добивка за тековната година | M14: =БУ!E98 -> 0 | O14: =SUM(C14:N14) -> 0
A15: 8 | B15: Загуба за тековната година | N15: =БУ!E99*(-1) -> 0 | O15: =SUM(C15:N15) -> 0
A16: 9 | B16: Запишано зголемување во ЦРМ | O16: =SUM(C16:N16) -> 0
A17: 10 | B17: Запишано намалување во ЦРМ | O17: =SUM(C17:N17) -> 0
A18: 11 | B18: Останато зголемување/намалување | O18: =SUM(C18:N18) -> 0
A19: 12 | B19: Дивиденди | O19: =SUM(C19:N19) -> 0
A20: 13 | B20: Состојба на 31.12.2025 | C20: =SUM(C8:C19) -> 0 | D20: =SUM(D8:D19) -> 0 | E20: =SUM(E8:E19) -> 0 | F20: =SUM(F8:F19) -> 0 | G20: =SUM(G8:G19) -> 0 | H20: =SUM(H8:H19) -> 0 | I20: =SUM(I8:I19) -> 0 | J20: =SUM(J8:J19) -> 0 | ... O20: =SUM(O8:O19) -> 0

Sheet ДБ
B10: Посебен | E10: Заштитни | H10: ТИРЗ | J10: Казнено поправни
B11: даночен статус | E11: друштва | J11: домови
B13: Единствен | D13: ='[2]ОСНОВНИ ПОДАТОЦИ ЗА ДРУШТВОТО'!B4 -> 0 | J13: Датум и
B14: даночен број | J14: број на
J15: прием
B16: Скратен назив | D16: ='[2]ОСНОВНИ ПОДАТОЦИ ЗА ДРУШТВОТО'!B1 -> 0
B17: и адреса на вистинско | K17: Даночен период
B18: седиште за контакт | J18: од | K18: 45658
J19: до | K19: 46022
J20: Рок за
J21: поднесување
B22: Телефон
J23: Исправка
B24: е-пошта | J24: на ДБ | L24: Број:
B27: УТВРДУВАЊЕ НА ДАНОК НА ДОБИВКА
L28: АОП
A29: I. | B29: Финансиски резултат во Биланс на успех | K29: 01
A30: II. | B30: Непризнаени расходи и помалку искажани приходи за даночни цели (збир од АОП 03 до АОП 39) | L30: 02 | M30: =SUM(M31:N61) -> 0
A31: 1 | B31: Расходи кои не се поврзани со вршење на дејноста на субјектот односно не се непосреден услов за извршување на дејноста и не се последица од вршењето на дејноста | L31: 03
A32: 2 | B32: Надоместоци на трошоци и други лични примања од работен однос над утврдениот износ | L32: 04
A33: 3 | B33: Надоместоци на трошоци на вработените што не се утврдени со член 9 став 1 точка 2 од ЗДД | L33: 05
A34: 4 | B34: Трошоци за организирана исхрана и превоз над износите утврдени со закон | L34: 06
A35: 5 | B35: Трошоци за хотелско сместување во износ над 6.000 денари дневно по лице и трошоци за превоз на лица кои не се документирани | L35: 07
A36: 6 | B36: Трошоци за исхрана на вработени кои работат ноќно време над износите утврдени со закон | L36: 08
A37: 7 | B37: Трошоци по основ на месечни надоместоци на членови на органи на управување над висината утврдена со закон | L37: 09
A38: 8 | B38: Трошоци по основ на уплатени доброволни придонеси во доброволен пензиски фонд над висината утврдена со закон | L38: 10
A39: 9 | B39: Трошоци по основ на уплатени премии за осигурување на живот над висината утврдена со закон | L39: 11
A40: 10 | B40: Надомест за лица волонтери и за лица ангажирани за вршење на јавни работи над износите утврдени со закон | L40: 12
A41: 11 | B41: Скриени исплати на добивки | L41: 13
A42: 12 | B42: Кусоци кои не се предизвикани од вонредни настани (кражба, пожар или други природни непогоди) | L42: 14
... A67: 37 | B67: Други усогласувања на расходи | L67: 39
A68: III. | B68: Даночна основа (I+II) | L68: 40 | M68: =M29+M30 -> 0
A69: IV. | B69: Намалување на даночна основа (АОП42+АОП43+АОП44+АОП45+АОП46+АОП47+АОП48) | L69: 41 | M69: =M70+M71+M72+M75+M76 -> 0
A70: 38 | B70: Износ на наплатени побарувања за кои во претходниот период е зголемена даночната основа | L70: 42
A71: 39 | B71: Износ на вратен дел од заем за кои во претходните даночни периоди било извршено зголемување на даночната основа | L71: 43
A72: 40 | B72: Износ на трошоците за амортизација над износот пресметан со примена на амортизациони стапки утврдени со номенклатурата за средствата за амортизација и годишните амортизациони стапки за кои во претходниот период е извршено зголемување на даночната основица | L72: 44
A73: 41 | B73: Износ на неисплатените надоместоци над износите утврдени во член 9 став(1) точки 2),3-6),4),5),5-а) и 6), од ЗДД, за кои во претходниот период е извршено зголемување на даночната основа, доколку истите се искажани како приход | L73: 45
A74: 42 | B74: Дивиденди остварени со учество во капиталот на друг даночен обврзник, оданочени со данок на добивка кај исплатувачот | L74: 46
A75: 43 | B75: Дел од загуба намалена за непризнаени расходи, пренесена од претходни години | L75: 47
A76: 44 | B76: Износ на извршени вложувања од добивката (реинвестирана) | L76: 48
...

Sheet ДБ-ВП
A7: Единствен | C7: ='[1]ОСНОВНИ ПОДАТОЦИ ЗА ДРУШТВОТО'!B4 -> 0 | H7: Датум и
A8: даночен број | H8: број на
H9: прием
A10: Скратен назив | C10: ='[1]ОСНОВНИ ПОДАТОЦИ ЗА ДРУШТВОТО'!B1 -> 0
A11: и адреса на вистинско | I11: Даночен период
A12: седиште за контакт | H12: од | I12: 45658
H13: до | I13: 46022
H14: Рок за
H15: поднесување
A16: Телефон
H17: Исправка
A18: е-пошта | H18: на ДБ - ВП | J18: Број:
A21: ПОДАТОЦИ ЗА ДЕЈНОСТА
A24: Опис на дејност | C24: Шифра НАЦЕ | D24: ='ОСНОВНИ ПОДАТОЦИ ЗА ДРУШТВОТО'!C16:O16 -> 0 | E24: Назив НАЦЕ | F24: ='ОСНОВНИ ПОДАТОЦИ ЗА ДРУШТВОТО'!C17:O17 -> 0
D25: Друштво за вработување на инвалидизирани лица
A27: Правна форма | D27: ДООЕЛ | F27: Акционерско Друштво | H27: Јавно Трговско Друштво
D29: ДОО | F29: Командитно Друштво | H29: Командитно друштво со акции
D31: Друго
A34: Друштвото се определило да плаќа ГДВП од : | G34: Година
A36: УТВРДУВАЊЕ НА ГОДИШЕН ДАНОК НА ВКУПЕН ПРИХОД
A38: 1 | B38: Вкупен приход утврден во Билансот на успех | H38: 01 | I38: =I39+I40+I41 -> 0
A39: 1.1 | B39: Приходи од работењето | H39: 02 | I39: =БУ!E29 -> 0
A40: 1.2 | B40: Финансиски приходи | H40: 03 | I40: =БУ!E60 -> 0
A41: 1.3 | B41: Удел во добивката на придружените друштва | H41: 04 | I41: =БУ!E87 -> 0
A42: 2 | B42: Пропишана стапка (стапка од член 34 на ЗДД) | H42: 05 | I42: 0.01
A43: 3 | B43: Годишен данок на вкупен приход (реден број 1 x 2/100) | H43: 06 | I43: =I38*I42 -> 0
A44: 4 | B44: Износ на платени аконтации на данокот на добивка | H44: 07
A48: ПОДАТОЦИ ЗА СОСТАВУВАЧОТ
A50: Назив /
A51: Име и презиме
G52: Датум на
A53: ЕДБ / ЕМБГ | G53: пополнување
A55: Својство | G55: Потпис
A58: ПОДАТОЦИ ЗА ПОТПИСНИКОТ
A60: Назив /
A61: Име и презиме
G62: Датум на
A63: ЕДБ / ЕМБГ | G63: пополнување
A65: Својство | G65: Потпис
